BEGIN:VCALENDAR
VERSION:2.0
PRODID:icalendar-ruby
CALSCALE:GREGORIAN
BEGIN:VEVENT
DTSTAMP:20260419T132607Z
UID:a78d23b4-1eeb-4e9e-9920-427b68cb0b91
DTSTART;VALUE=DATE:20260409
DESCRIPTION:Property ID# 605327\, Locatoin: 5 Southill Way\, Pyes Pa\, Taur
 anga\, Time: 4:00PM
SUMMARY:Auction for 5 Southill Way
END:VEVENT
END:VCALENDAR
