BEGIN:VCALENDAR
VERSION:2.0
PRODID:icalendar-ruby
CALSCALE:GREGORIAN
BEGIN:VEVENT
DTSTAMP:20260419T133825Z
UID:7d3b9c15-5e69-4948-bcee-d478c2eb4ee9
DTSTART;VALUE=DATE:20241003
DESCRIPTION:Property ID# 580894\, Locatoin: 31 main Street\, Upper Hutt\, T
 ime: 1:00PM
SUMMARY:Auction for 
END:VEVENT
END:VCALENDAR
