BEGIN:VCALENDAR
VERSION:2.0
PRODID:icalendar-ruby
CALSCALE:GREGORIAN
BEGIN:VEVENT
DTSTAMP:20210121T215537Z
UID:6b04bec8-9085-452e-904e-9de340aa75d7
DTSTART;TZID=Pacific/Auckland:20210124T124500
DTEND;TZID=Pacific/Auckland:20210124T131500
DESCRIPTION:Property ID# 497654
SUMMARY:Openhome for 5/30B Wilford Street
END:VEVENT
END:VCALENDAR
