BEGIN:VCALENDAR
VERSION:2.0
PRODID:icalendar-ruby
CALSCALE:GREGORIAN
BEGIN:VEVENT
DTSTAMP:20210121T215515Z
UID:5258941b-038e-4a5a-8e1e-405c41b8d78b
DTSTART;TZID=Pacific/Auckland:20210124T120000
DTEND;TZID=Pacific/Auckland:20210124T124500
DESCRIPTION:Property ID# 499956
SUMMARY:Openhome for A/24 Mount Marua Way
END:VEVENT
END:VCALENDAR
