BEGIN:VCALENDAR
VERSION:2.0
PRODID:icalendar-ruby
CALSCALE:GREGORIAN
BEGIN:VEVENT
DTSTAMP:20210121T215532Z
UID:0f9a4ef9-512c-40c2-8c8d-b4aa7845d0c3
DTSTART;TZID=Pacific/Auckland:20210124T120000
DTEND;TZID=Pacific/Auckland:20210124T123000
DESCRIPTION:Property ID# 498441
SUMMARY:Openhome for 59 Kashmir Avenue
END:VEVENT
END:VCALENDAR
