BEGIN:VCALENDAR
VERSION:2.0
PRODID:icalendar-ruby
CALSCALE:GREGORIAN
BEGIN:VEVENT
DTSTAMP:20210121T220412Z
UID:b63ab43d-f05f-4adb-a9dd-abb093ea3a19
DTSTART;TZID=Pacific/Auckland:20210124T131500
DTEND;TZID=Pacific/Auckland:20210124T140000
DESCRIPTION:Property ID# 499049
SUMMARY:Openhome for 17 Norfolk Street
END:VEVENT
END:VCALENDAR
