BEGIN:VCALENDAR
VERSION:2.0
PRODID:icalendar-ruby
CALSCALE:GREGORIAN
BEGIN:VEVENT
DTSTAMP:20210121T215524Z
UID:8aa1ec0a-3d40-4794-b845-3d145534c0b2
DTSTART;TZID=Pacific/Auckland:20210124T130000
DTEND;TZID=Pacific/Auckland:20210124T133000
DESCRIPTION:Property ID# 499362
SUMMARY:Openhome for 14/6 Keys Street
END:VEVENT
END:VCALENDAR
