BEGIN:VCALENDAR
VERSION:2.0
PRODID:icalendar-ruby
CALSCALE:GREGORIAN
BEGIN:VEVENT
DTSTAMP:20210121T220624Z
UID:0e683afb-f7d1-4328-994e-e9a4531ee195
DTSTART;TZID=Pacific/Auckland:20210120T173000
DTEND;TZID=Pacific/Auckland:20210120T181500
DESCRIPTION:Property ID# 499458
SUMMARY:Openhome for 16 Otira Grove
END:VEVENT
END:VCALENDAR
