BEGIN:VCALENDAR
VERSION:2.0
PRODID:icalendar-ruby
CALSCALE:GREGORIAN
BEGIN:VEVENT
DTSTAMP:20210121T215509Z
UID:e9cf07e8-2fc4-47a5-a9e6-92594177c21b
DTSTART;VALUE=DATE:20210202
DESCRIPTION:Property ID# 500081\, Locatoin: 897 Fergusson Drive\, Upper Hut
 t\, Time: 1:00PM
SUMMARY:Auction for 41 Hartford Crescent
END:VEVENT
END:VCALENDAR
