BEGIN:VCALENDAR
VERSION:2.0
PRODID:icalendar-ruby
CALSCALE:GREGORIAN
BEGIN:VEVENT
DTSTAMP:20210121T220626Z
UID:0c2c8159-0cd6-4810-90a1-555f41cf00c3
DTSTART;VALUE=DATE:20210128
DESCRIPTION:Property ID# 499458\, Time: 3:00AM
SUMMARY:Auction for 16 Otira Grove
END:VEVENT
END:VCALENDAR
