BEGIN:VCALENDAR
VERSION:2.0
PRODID:icalendar-ruby
CALSCALE:GREGORIAN
BEGIN:VEVENT
DTSTAMP:20210121T220448Z
UID:5f7010ba-e1eb-45fc-8cff-15cc728543c1
DTSTART;VALUE=DATE:20201130
DESCRIPTION:Property ID# 496697\, Time: 4:00PM
SUMMARY:Auction for 
END:VEVENT
END:VCALENDAR
