BEGIN:VCALENDAR
VERSION:2.0
PRODID:icalendar-ruby
CALSCALE:GREGORIAN
BEGIN:VEVENT
DTSTAMP:20210121T220445Z
UID:8392f371-8860-487c-b947-27b7e2eff366
DTSTART;VALUE=DATE:20201209
DESCRIPTION:Property ID# 496097\, Locatoin:  237 Taita Drive\, Ricoh Sports
  Centre Kadima Lounge2\, Time: 12:00PM
SUMMARY:Auction for 
END:VEVENT
END:VCALENDAR
