BEGIN:VCALENDAR
VERSION:2.0
PRODID:icalendar-ruby
CALSCALE:GREGORIAN
BEGIN:VEVENT
DTSTAMP:20210121T220401Z
UID:88f40ad7-5074-4e7b-9ddd-352dc061e263
DTSTART;VALUE=DATE:20201203
DESCRIPTION:Property ID# 496022\, Locatoin: Ray White Upper Hutt office at 
 31 Main Street\, Upper Hutt\, Time: 12:00PM
SUMMARY:Auction for 
END:VEVENT
END:VCALENDAR
