BEGIN:VCALENDAR
VERSION:2.0
PRODID:icalendar-ruby
CALSCALE:GREGORIAN
BEGIN:VEVENT
DTSTAMP:20210121T220359Z
UID:18a80823-ae02-44b4-ad53-0cc258ca8945
DTSTART;VALUE=DATE:20201202
DESCRIPTION:Property ID# 496021\, Locatoin: Ray White Upper Hutt office at 
 31 Main Street\, Upper Hutt\, Time: 12:00PM
SUMMARY:Auction for 
END:VEVENT
END:VCALENDAR
