BEGIN:VCALENDAR
VERSION:2.0
PRODID:icalendar-ruby
CALSCALE:GREGORIAN
BEGIN:VEVENT
DTSTAMP:20210121T220450Z
UID:eb5fbca4-cc16-4a42-b30e-622a09d8b484
DTSTART;VALUE=DATE:20201125
DESCRIPTION:Property ID# 495708\, Time: 4:00PM
SUMMARY:Auction for 
END:VEVENT
END:VCALENDAR
