BEGIN:VCALENDAR
VERSION:2.0
PRODID:icalendar-ruby
CALSCALE:GREGORIAN
BEGIN:VEVENT
DTSTAMP:20210121T220451Z
UID:854cb31d-dc93-4d00-9a98-2b5f24a062d5
DTSTART;VALUE=DATE:20201124
DESCRIPTION:Property ID# 495137\, Time: 4:00PM
SUMMARY:Auction for 
END:VEVENT
END:VCALENDAR
