BEGIN:VCALENDAR
VERSION:2.0
PRODID:icalendar-ruby
CALSCALE:GREGORIAN
BEGIN:VEVENT
DTSTAMP:20210119T004944Z
UID:68371813-35a6-48ff-9746-2a253279178e
DTSTART;VALUE=DATE:20201208
DESCRIPTION:Property ID# 494902\, Time: 1:00PM
SUMMARY:Auction for 
END:VEVENT
END:VCALENDAR
