BEGIN:VCALENDAR
VERSION:2.0
PRODID:icalendar-ruby
CALSCALE:GREGORIAN
BEGIN:VEVENT
DTSTAMP:20210121T220742Z
UID:ac081b8d-feda-4b1b-ad0c-8c31e112a701
DTSTART;VALUE=DATE:20201120
DESCRIPTION:Property ID# 494666\, Locatoin: 120 Queens Dr\, Lower Hutt\, Ti
 me: 3:00PM
SUMMARY:Auction for 
END:VEVENT
END:VCALENDAR
