BEGIN:VCALENDAR
VERSION:2.0
PRODID:icalendar-ruby
CALSCALE:GREGORIAN
BEGIN:VEVENT
DTSTAMP:20210121T220628Z
UID:c8b6df01-e12d-4914-b7be-07a73f910aa9
DTSTART;VALUE=DATE:20201119
DESCRIPTION:Property ID# 494624\, Time: 12:30PM
SUMMARY:Auction for 
END:VEVENT
END:VCALENDAR
