BEGIN:VCALENDAR
VERSION:2.0
PRODID:icalendar-ruby
CALSCALE:GREGORIAN
BEGIN:VEVENT
DTSTAMP:20210121T220402Z
UID:da27db84-50a7-4ca6-90b0-c6d1bbd55043
DTSTART;VALUE=DATE:20201104
DESCRIPTION:Property ID# 493406\, Locatoin: 31 Main Street\, Upper Hutt - R
 ay White Office\, Time: 12:00PM
SUMMARY:Auction for 
END:VEVENT
END:VCALENDAR
