BEGIN:VCALENDAR
VERSION:2.0
PRODID:icalendar-ruby
CALSCALE:GREGORIAN
BEGIN:VEVENT
DTSTAMP:20210121T220423Z
UID:bdc54574-2c0f-4c2b-91d7-68446cb78b2f
DTSTART;VALUE=DATE:20201030
DESCRIPTION:Property ID# 492923\, Locatoin: Ray White Office 31 Main Street
 \, Upper Hutt\, Time: 1:00PM
SUMMARY:Auction for 
END:VEVENT
END:VCALENDAR
