BEGIN:VCALENDAR
VERSION:2.0
PRODID:icalendar-ruby
CALSCALE:GREGORIAN
BEGIN:VEVENT
DTSTAMP:20210121T220405Z
UID:15ec8217-c9fe-4a43-bcc5-36176aedaf56
DTSTART;VALUE=DATE:20201007
DESCRIPTION:Property ID# 490543\, Locatoin: 63A Mcloed Street\, Elderslea\,
  Time: 12:00PM
SUMMARY:Auction for 
END:VEVENT
END:VCALENDAR
