BEGIN:VCALENDAR
VERSION:2.0
PRODID:icalendar-ruby
CALSCALE:GREGORIAN
BEGIN:VEVENT
DTSTAMP:20210121T220407Z
UID:ad2a92f5-bbb0-473a-92c2-9ec9732f90e9
DTSTART;VALUE=DATE:20200916
DESCRIPTION:Property ID# 489002\, Locatoin: 31 Main Street\, Upper Hutt (wi
 ll not be sold prior).\, Time: 12:00PM
SUMMARY:Auction for 
END:VEVENT
END:VCALENDAR
