BEGIN:VCALENDAR
VERSION:2.0
PRODID:icalendar-ruby
CALSCALE:GREGORIAN
BEGIN:VEVENT
DTSTAMP:20210121T220408Z
UID:8ef05933-e397-4772-a245-758efa653c6b
DTSTART;VALUE=DATE:20200909
DESCRIPTION:Property ID# 488284\, Locatoin: 31 Main Street\, Upper Hutt\, T
 ime: 12:00PM
SUMMARY:Auction for 
END:VEVENT
END:VCALENDAR
