BEGIN:VCALENDAR
VERSION:2.0
PRODID:icalendar-ruby
CALSCALE:GREGORIAN
BEGIN:VEVENT
DTSTAMP:20210121T220348Z
UID:c73a7957-f046-48de-bfe9-435b51fa9137
DTSTART;VALUE=DATE:20200903
DESCRIPTION:Property ID# 487602\, Locatoin: Ray White Leaders\, 9-11 Kings 
 Cres LOWER HUTT\, Time: 3:00PM
SUMMARY:Auction for 
END:VEVENT
END:VCALENDAR
