BEGIN:VCALENDAR
VERSION:2.0
PRODID:icalendar-ruby
CALSCALE:GREGORIAN
BEGIN:VEVENT
DTSTAMP:20210121T220350Z
UID:e5c5f247-b457-47f8-a28d-695a1466036b
DTSTART;VALUE=DATE:20200716
DESCRIPTION:Property ID# 484850\, Locatoin: Ray White Leaders\, 9-11 Kings 
 Crescent LOWER HUTT\, Time: 4:00PM
SUMMARY:Auction for 
END:VEVENT
END:VCALENDAR
