BEGIN:VCALENDAR
VERSION:2.0
PRODID:icalendar-ruby
CALSCALE:GREGORIAN
BEGIN:VEVENT
DTSTAMP:20210121T220428Z
UID:8aefb71a-39e0-4ff6-8a25-77f02471fd58
DTSTART;VALUE=DATE:20200724
DESCRIPTION:Property ID# 484699\, Locatoin: At The Offices of Ray White Lea
 ders\, 31 Main Street\, Upper Hutt.\, Time: 4:00PM
SUMMARY:Auction for 
END:VEVENT
END:VCALENDAR
