BEGIN:VCALENDAR
VERSION:2.0
PRODID:icalendar-ruby
CALSCALE:GREGORIAN
BEGIN:VEVENT
DTSTAMP:20210121T220429Z
UID:ce862027-3f46-4863-831b-dc4c3d34350e
DTSTART;VALUE=DATE:20200723
DESCRIPTION:Property ID# 484206\, Locatoin: At The Offices of Ray White Lea
 ders\, 31 Main Street\, Upper Hutt.\, Time: 1:00PM
SUMMARY:Auction for 
END:VEVENT
END:VCALENDAR
