BEGIN:VCALENDAR
VERSION:2.0
PRODID:icalendar-ruby
CALSCALE:GREGORIAN
BEGIN:VEVENT
DTSTAMP:20210121T220431Z
UID:c98e0fc1-d21f-4aad-be5b-688ab3c3fde1
DTSTART;VALUE=DATE:20200702
DESCRIPTION:Property ID# 481759\, Time: 1:00PM
SUMMARY:Auction for 
END:VEVENT
END:VCALENDAR
