BEGIN:VCALENDAR
VERSION:2.0
PRODID:icalendar-ruby
CALSCALE:GREGORIAN
BEGIN:VEVENT
DTSTAMP:20210121T220351Z
UID:38fa028d-8494-4a05-995b-2f21361943dc
DTSTART;VALUE=DATE:20200312
DESCRIPTION:Property ID# 474440\, Locatoin: Ray White Leaders\, 9-11 Kings 
 Cres Lower Hutt\, Time: 4:00PM
SUMMARY:Auction for 
END:VEVENT
END:VCALENDAR
