BEGIN:VCALENDAR
VERSION:2.0
PRODID:icalendar-ruby
CALSCALE:GREGORIAN
BEGIN:VEVENT
DTSTAMP:20210121T220432Z
UID:7778e823-4058-4d76-88df-c4f0e70c7926
DTSTART;VALUE=DATE:20200318
DESCRIPTION:Property ID# 474353\, Locatoin: At The Offices of Ray White Lea
 ders\, 31 Main Street\, Upper Hutt.\, Time: 4:00PM
SUMMARY:Auction for 
END:VEVENT
END:VCALENDAR
