BEGIN:VCALENDAR
VERSION:2.0
PRODID:icalendar-ruby
CALSCALE:GREGORIAN
BEGIN:VEVENT
DTSTAMP:20210121T220353Z
UID:d0428d26-9ca0-4374-b329-26e37e44b0aa
DTSTART;VALUE=DATE:20191210
DESCRIPTION:Property ID# 467919\, Locatoin: Ray White Leaders\, 9-11 Kings 
 Crescent LOWER HUTT\, Time: 4:00PM
SUMMARY:Auction for 
END:VEVENT
END:VCALENDAR
