BEGIN:VCALENDAR
VERSION:2.0
PRODID:icalendar-ruby
CALSCALE:GREGORIAN
BEGIN:VEVENT
DTSTAMP:20210121T220434Z
UID:ec50aff4-7d3b-463b-9ea6-1f7dd3a5fe8c
DTSTART;VALUE=DATE:20191211
DESCRIPTION:Property ID# 467798\, Time: 1:00PM
SUMMARY:Auction for 
END:VEVENT
END:VCALENDAR
