BEGIN:VCALENDAR
VERSION:2.0
PRODID:icalendar-ruby
CALSCALE:GREGORIAN
BEGIN:VEVENT
DTSTAMP:20210121T220435Z
UID:e519c359-0ad8-4ffb-b492-6e2bd0de26a8
DTSTART;VALUE=DATE:20191205
DESCRIPTION:Property ID# 467231\, Locatoin: At The Offices of Ray White Lea
 ders\, 31 Main Street\, Upper Hutt.\, Time: 1:00PM
SUMMARY:Auction for 
END:VEVENT
END:VCALENDAR
