BEGIN:VCALENDAR
VERSION:2.0
PRODID:icalendar-ruby
CALSCALE:GREGORIAN
BEGIN:VEVENT
DTSTAMP:20210121T220437Z
UID:be669c5e-d44f-4834-a0fc-2acf8e8112e0
DTSTART;VALUE=DATE:20191128
DESCRIPTION:Property ID# 466472\, Locatoin: At The Offices of Ray White Lea
 ders\, 31 Main Street\, Upper Hutt.\, Time: 1:00PM
SUMMARY:Auction for 
END:VEVENT
END:VCALENDAR
