BEGIN:VCALENDAR
VERSION:2.0
PRODID:icalendar-ruby
CALSCALE:GREGORIAN
BEGIN:VEVENT
DTSTAMP:20210121T220354Z
UID:33bd1a3d-5597-4eba-99ab-92ccfdfa0690
DTSTART;VALUE=DATE:20200825
DESCRIPTION:Property ID# 465526\, Locatoin: Ray White Leaders\, 9-11 Kings 
 Crescent LOWER HUTT\, Time: 3:00PM
SUMMARY:Auction for 
END:VEVENT
END:VCALENDAR
