BEGIN:VCALENDAR
VERSION:2.0
PRODID:icalendar-ruby
CALSCALE:GREGORIAN
BEGIN:VEVENT
DTSTAMP:20210121T220440Z
UID:80ffd9dc-354a-43bc-a19f-4c2d0597fae4
DTSTART;VALUE=DATE:20190926
DESCRIPTION:Property ID# 460157\, Locatoin: At The Offices of Ray White Lea
 ders\, 31 Main Street\, Upper Hutt.\, Time: 1:00PM
SUMMARY:Auction for 
END:VEVENT
END:VCALENDAR
