BEGIN:VCALENDAR
VERSION:2.0
PRODID:icalendar-ruby
CALSCALE:GREGORIAN
BEGIN:VEVENT
DTSTAMP:20210121T220358Z
UID:f6180d11-f2e8-446c-a8ab-9611d60f81f4
DTSTART;VALUE=DATE:20190731
DESCRIPTION:Property ID# 458016\, Time: 1:00PM
SUMMARY:Auction for 
END:VEVENT
END:VCALENDAR
